BEGIN:VCALENDAR
VERSION:2.0
PRODID:-//Mississippi Symphony Orchestra - ECPv6.8.3//NONSGML v1.0//EN
CALSCALE:GREGORIAN
METHOD:PUBLISH
X-WR-CALNAME:Mississippi Symphony Orchestra
X-ORIGINAL-URL:https://msorchestra.com
X-WR-CALDESC:Events for Mississippi Symphony Orchestra
REFRESH-INTERVAL;VALUE=DURATION:PT1H
X-Robots-Tag:noindex
X-PUBLISHED-TTL:PT1H
BEGIN:VTIMEZONE
TZID:America/Chicago
BEGIN:DAYLIGHT
TZOFFSETFROM:-0600
TZOFFSETTO:-0500
TZNAME:CDT
DTSTART:20260308T080000
END:DAYLIGHT
BEGIN:STANDARD
TZOFFSETFROM:-0500
TZOFFSETTO:-0600
TZNAME:CST
DTSTART:20261101T070000
END:STANDARD
END:VTIMEZONE
BEGIN:VEVENT
DTSTART;TZID=America/Chicago:20260423T190000
DTEND;TZID=America/Chicago:20260423T210000
DTSTAMP:20260423T020406
CREATED:20250411T143502Z
LAST-MODIFIED:20260401T212151Z
UID:23502-1776970800-1776978000@msorchestra.com
SUMMARY:Sundown at Renaissance - Spring Edition
DESCRIPTION:FREE open-air\, community partner concert \n\n\n\n\n\nSundown at Renaissance\nspring edition   \nRound up your friends and family. Grab a snack and a go-cup\, from Malco Renaissance Cinema Grill & Bar or nearby Renaissance restaurants\, and make yourself comfortable on the green space for a FREE open-air concert with Mississippi Symphony Orchestra! \nFor more details\, expand toggles below. \n\n\n\n\n\n\n\n\n\n\n\n\nSponsors\n\n\n\nConcert in partnership with: \n \n\n\n\n\n\n\n\n\nConcert Program\n\n\n\nA Tribute to the Film Composer (John Williams)\nTara’s Theme from Gone With the Wind\nUnchained Melody\nShark’s Theme from Jaws\nMain Themes from Titanic\nJames Bond Theme\nSymphonic Picture of The Sound of Music\nImperial March from Star Wars \n“Thousand Years” from Twilight\nRaider’s March from Raiders of the Lost Ark\nFeather Theme from Forrest Gump\nSomewhere in Time\nFanfare for the Common Man\nAmerican Salute\nStar Spangled Spectacular\nWashington Post March \n\n\n\n\n\n\n\n\nVenue & Parking Information\n\n\n\nThe Venue: Renaissance at Colony Park\, Show Fountain Stage\, 1000 Highland Colony Pkwy\, Ridgeland\, MS 39157 \nParking: surrounding outdoor mall parking lot
URL:https://msorchestra.com/event/sundown-at-renaissance-2025-spring-edition/
LOCATION:Renaissance At Colony Park\, 1000 Highland Colony Pkwy\, Ridgeland\, 39157\, United States
CATEGORIES:All Events,Community Partner Concerts
ATTACH;FMTTYPE=image/jpeg:https://msorchestra.com/wp-content/uploads/2025/03/3x2-visit-jackson-event-listings-sundown-renaissance-scaled.jpg
ORGANIZER;CN="Mississippi Symphony Orchestra":MAILTO:sims@example.com
END:VEVENT
END:VCALENDAR